Workbook

Sheet Datos de Entrada
A1: TANQUE IMHOFF - DATOS DE ENTRADA
A2: Celdas amarillas: editar con los datos reales del proyecto. Valores mostrados son de ejemplo.
A4: Parámetro | B4: Símbolo | C4: Valor | D4: Unidad
A5: Población de diseño | B5: P | C5: 1000 | D5: hab
A6: Dotación de agua potable | B6: Dot | C6: 150 | D6: L/hab/día
A7: Coeficiente de retorno | B7: C | C7: 0.8 | D7: -
A8: Temperatura media del agua residual | B8: T | C8: 18 | D8: °C
A9: Volumen unitario de digestión (según T, tabla Fair-Moore) | B9: Vd | C9: 70 | D9: L/hab
A10: Tiempo de retención hidráulico adoptado (sedimentación) | B10: t | C10: 2 | D10: h
A11: Carga superficial adoptada | B11: Cs | C11: 1.2 | D11: m³/m²·h
A12: Relación Largo/Ancho adoptada | B12: L/A | C12: 3 | D12: -
A13: Profundidad zona rectangular de sedimentación | B13: Hr | C13: 1.8 | D13: m
A14: Ángulo de las paredes de la tolva (con la horizontal) | B14: α | C14: 55 | D14: °
A15: Ancho de la ranura de fondo | B15: a | C15: 0.2 | D15: m
A16: Ancho libre de la zona de ventilación (por lado) | B16: av | C16: 1 | D16: m
A17: Borde libre | B17: bl | C17: 0.4 | D17: m
A19: Fuente de valores típicos: OPS/CEPIS - Guía para el diseño de tanques sépticos e Imhoff; RAS-2000 (Colombia); OS.070 Norma Técnica de Saneamiento (Perú). Verificar y ajustar según estudio de campo y ensayo de tratabilidad del proyecto real.

Sheet Calculos
A1: TANQUE IMHOFF - MEMORIA DE CALCULO
A3: Descripcion | B3: Valor | C3: Unidad
A4: 1. Caudales de diseno
A5: Caudal medio diario (Qm) | B5: ='Datos de Entrada'!C5*'Datos de Entrada'!C6*'Datos de Entrada'!C7/86400 | C5: L/s
A6: Factor punta de Harmon (M) | B6: =1+14/(4+SQRT('Datos de Entrada'!C5/1000)) | C6: -
A7: Caudal maximo horario (Qmax) | B7: =B5*B6 | C7: L/s
A8: Caudal maximo horario (Qmax) | B8: =B7*3.6 | C8: m3/h
A9: Caudal maximo diario | B9: =B8*24 | C9: m3/dia
A11: 2. Camara de sedimentacion
A12: Volumen requerido de sedimentacion (V) | B12: =B8*'Datos de Entrada'!C10 | C12: m3
A13: Area superficial requerida (As) | B13: =B8/'Datos de Entrada'!C11 | C13: m2
A14: Ancho de la camara de sedimentacion (b) | B14: =SQRT(B13/'Datos de Entrada'!C12) | C14: m
A15: Largo de la camara de sedimentacion (L) | B15: =B14*'Datos de Entrada'!C12 | C15: m
A16: Altura de la tolva de sedimentacion | B16: =((B14-'Datos de Entrada'!C15)/2)*TAN(RADIANS('Datos de Entrada'!C14)) | C16: m
A17: Volumen de la tolva | B17: =((B14+'Datos de Entrada'!C15)/2)*B16*B15 | C17: m3
A18: Volumen de la zona rectangular | B18: =B14*B15*'Datos de Entrada'!C13 | C18: m3
A19: Volumen total sedimentacion (verificacion >= V requerido) | B19: =B17+B18 | C19: m3
A20: Profundidad total de sedimentacion | B20: ='Datos de Entrada'!C13+B16 | C20: m
A22: 3. Camara de digestion
A23: Volumen de digestion requerido | B23: ='Datos de Entrada'!C5*'Datos de Entrada'!C9/1000 | C23: m3
A24: Ancho total del tanque (incluye zonas de ventilacion) | B24: =B14+2*'Datos de Entrada'!C16 | C24: m
A25: Area disponible para camara de digestion | B25: =B15*B24 | C25: m2
A26: Profundidad de digestion (zona recta) | B26: =B23/B25 | C26: m
A28: 4. Dimensiones totales del tanque
A29: Ancho total del tanque | B29: =B24 | C29: m
A30: Largo total del tanque | B30: =B15 | C30: m
A31: Profundidad total (sedimentacion + digestion + borde libre) | B31: =B20+B26+'Datos de Entrada'!C17 | C31: m
A32: Volumen total aproximado del tanque | B32: =B29*B30*B31 | C32: m3

Sheet Resumen
A1: TANQUE IMHOFF - RESUMEN DE DISENO
A3: Elemento | B3: Valor | C3: Unidad
A4: Caudal medio diario | B4: =Calculos!B5 | C4: L/s
A5: Caudal maximo horario | B5: =Calculos!B7 | C5: L/s
A6: Ancho de la camara de sedimentacion | B6: =Calculos!B14 | C6: m
A7: Largo de la camara de sedimentacion | B7: =Calculos!B15 | C7: m
A8: Profundidad total de sedimentacion | B8: =Calculos!B20 | C8: m
A9: Ancho de la ranura de fondo | B9: ='Datos de Entrada'!C15 | C9: m
A10: Volumen de la camara de digestion | B10: =Calculos!B23 | C10: m3
A11: Profundidad de digestion | B11: =Calculos!B26 | C11: m
A12: Ancho total del tanque | B12: =Calculos!B29 | C12: m
A13: Largo total del tanque | B13: =Calculos!B30 | C13: m
A14: Profundidad total del tanque | B14: =Calculos!B31 | C14: m
A15: Volumen total aproximado | B15: =Calculos!B32 | C15: m3
A17: Recordatorio: el tanque debe ir precedido de rejas/cribado y desarenador, y el efluente requiere tratamiento secundario (filtro percolador, laguna, humedal, etc.).

Sheet Esquemas
A1: TANQUE IMHOFF - ESQUEMAS DE LA ESTRUCTURA
A2: Esquemas generados con las dimensiones calculadas en la hoja 'Calculos' (datos de ejemplo). Actualizar los esquemas si se modifican los datos de entrada.
