Workbook

Sheet Datos de Entrada
A1: LAGUNA FACULTATIVA - DATOS DE ENTRADA
A2: Celdas amarillas: editar con datos reales del proyecto. Celdas grises: criterios de referencia de la Guía. La hoja diferencia Laguna Facultativa Primaria y Secundaria y verifica carga superficial, TRH, geometría y calidad de efluente.
A4: Parámetro | B4: Símbolo | C4: Valor | D4: Unidad
A5: Población de diseño | B5: P | C5: 1000 | D5: hab
A6: Dotación de agua potable | B6: Dot | C6: 150 | D6: L/hab/día
A7: Coeficiente de retorno | B7: Cr | C7: 0.8 | D7: -
A8: Zona ecológica | B8: ZE | C8: Valles | D8: -
A9: Temperatura media del aire del mes más frío | B9: Ta | C9: 18 | D9: °C
A10: Temperatura media del agua residual del mes más frío | B10: Tw | C10: 20 | D10: °C
A11: Tipo de Laguna Facultativa | B11: Tipo | C11: Primaria | D11: -
A12: DBO5 del agua residual cruda | B12: DBO0 | C12: 400 | D12: mg/L
A13: SST del agua residual cruda | B13: SST0 | C13: 450 | D13: mg/L
A14: DQO del agua residual cruda | B14: DQO0 | C14: 750 | D14: mg/L
A15: Coliformes fecales del afluente | B15: CF0 | C15: 10000000 | D15: NMP/100 mL
A16: Remoción DBO5 en etapa previa (0 si Primaria) | B16: ηDBO,p | C16: 0 | D16: fracción
A17: Remoción SST en etapa previa (0 si Primaria) | B17: ηSST,p | C17: 0 | D17: fracción
A19: PARÁMETROS DE DISEÑO DE LA LAGUNA FACULTATIVA
A20: Número de lagunas en paralelo | B20: n | C20: 1 | D20: unid
A21: Profundidad útil de agua | B21: h | C21: 1.8 | D21: m
A22: Relación largo/ancho de la lámina de agua | B22: L/B | C22: 3 | D22: -
A23: Talud interior horizontal/vertical | B23: m_i | C23: 2 | D23: H:V
A24: Talud exterior horizontal/vertical | B24: m_e | C24: 1.5 | D24: H:V
A25: Factor adoptado sobre la carga superficial máxima | B25: fλ | C25: 1 | D25: fracción
A26: Resguardo / borde libre adoptado | B26: BL | C26: 0.5 | D26: m
A27: Ancho de coronación adoptado | B27: Bc | C27: 3 | D27: m
A28: SST de diseño en el efluente para DBO particulada | B28: SSTe | C28: 80 | D28: mg/L
A29: Coeficiente de temperatura para remoción de DBO5 | B29: θDBO | C29: 1.035 | D29: -
A30: Reducción de Kb20 por ser Laguna Facultativa | B30: fKb | C30: 0.1 | D30: fracción
A31: Coeficiente de temperatura para coliformes | B31: θCF | C31: 1.07 | D31: -
... A34: Distancia de la laguna al centro poblado más próximo | B34: Dcp | C34: 750 | D34: m
A35: Pretratamiento (desbaste + desarenado) previsto | B35: Prep | C35: Sí | D35: -
A36: Medición de caudal después del pretratamiento | B36: Qmed | C36: Sí | D36: -
A37: Operación hidráulica predominante | B37: Hid | C37: Gravedad | D37: -
A39: Fuente principal: Guía técnica para la selección y diseño de líneas de tratamiento de aguas residuales - Módulo 2, Cap. 7.3 Lagunas de Estabilización (MMAyA/VAPSB; CEDEX). https://ceh.cedex.es/web/documentos/FCAS/2_Guia_PTAR_Bolivia.pdf

Sheet Calculos
A1: LAGUNA FACULTATIVA - MEMORIA DE CÁLCULO
A3: Descripción | B3: Valor | C3: Unidad | D3: Criterio / observación
A4: 1. CAUDALES Y AFLUENTE A LA LAGUNA
A5: Caudal medio diario (Qm) | B5: ='Datos de Entrada'!C5*'Datos de Entrada'!C6*'Datos de Entrada'!C7/1000 | C5: m³/d
A6: Caudal medio (Qm) | B6: =B5/86.4 | C6: L/s
A7: Factor punta de Harmon (M) | B7: =1+14/(4+SQRT('Datos de Entrada'!C5/1000)) | C7: - | D7: Diagnóstico hidráulico
A8: Caudal máximo horario | B8: =B6*B7 | C8: L/s | D8: Para revisión de estructuras de entrada/salida
A9: DBO5 afluente a Laguna Facultativa | B9: ='Datos de Entrada'!C12*(1-'Datos de Entrada'!C16) | C9: mg/L | D9: En Laguna Primaria la remoción previa debe ser 0
A10: SST afluente a Laguna Facultativa | B10: ='Datos de Entrada'!C13*(1-'Datos de Entrada'!C17) | C10: mg/L
A11: Carga de DBO5 afluente | B11: =B5*B9/1000 | C11: kg DBO5/d
A13: 2. CARGA SUPERFICIAL Y SUPERFICIE INICIAL POR MATERIA ORGÁNICA
A14: Carga superficial máxima según temperatura | B14: =IF('Datos de Entrada'!C9<=8,80,IF('Datos de Entrada'!C9>=25,350,350*(1.107-0.002*'Datos de Entrada'!C9)^('Datos de Entrada'!C9-25))) | C14: kg DBO5/ha·d | D14: Mara (1997), Tabla 7.21; máximo 350
A15: Carga superficial adoptada | B15: =B14*'Datos de Entrada'!C25 | C15: kg DBO5/ha·d | D15: Debe ser ≤ carga máxima
A16: Superficie total requerida por carga orgánica | B16: =B11/B15 | C16: ha | D16: S = Q·Ca / λs
A17: Superficie total requerida por carga orgánica | B17: =B16*10000 | C17: m²
A18: Superficie por laguna en paralelo | B18: =B17/'Datos de Entrada'!C20 | C18: m²
A19: Ancho de lámina de agua inicial | B19: =SQRT(B18/'Datos de Entrada'!C22) | C19: m | D19: L/B adoptado
A20: Largo de lámina de agua inicial | B20: =B19*'Datos de Entrada'!C22 | C20: m
A21: Ancho de fondo inicial | B21: =MAX(0,B19-2*'Datos de Entrada'!C23*'Datos de Entrada'!C21) | C21: m | D21: Talud interior
A22: Largo de fondo inicial | B22: =MAX(0,B20-2*'Datos de Entrada'!C23*'Datos de Entrada'!C21) | C22: m | D22: Talud interior
A23: Área a media profundidad inicial | B23: =(B19-'Datos de Entrada'!C23*'Datos de Entrada'!C21)*(B20-'Datos de Entrada'!C23*'Datos de Entrada'!C21) | C23: m² | D23: Para fórmula prismoidal
A24: Volumen útil por laguna inicial | B24: ='Datos de Entrada'!C21/6*(B18+B21*B22+4*B23) | C24: m³ | D24: Prismoide con taludes interiores
A25: Volumen útil total inicial | B25: =B24*'Datos de Entrada'!C20 | C25: m³
A26: TRH inicial | B26: =B25/B5 | C26: d | D26: Se compara con TRH mínimo por zona
A28: 3. VERIFICACIÓN DEL TRH Y DIMENSIONES DEFINITIVAS
A29: TRH mínimo recomendado por zona ecológica | B29: =IF('Datos de Entrada'!C8="Altiplano",20,IF('Datos de Entrada'!C8="Valles",15,10)) | C29: d | D29: Altiplano ≥20; Valles ≥15; Llanos ≥10
A30: Volumen mínimo total por TRH | B30: =B5*B29 | C30: m³ | D30: V = Q·TRHmín
A31: Volumen total de diseño adoptado | B31: =MAX(B25,B30) | C31: m³ | D31: Gobierna carga superficial o TRH
A32: Volumen por laguna de diseño | B32: =B31/'Datos de Entrada'!C20 | C32: m³
A33: Discriminante geométrico | B33: =('Datos de Entrada'!C23*'Datos de Entrada'!C21*('Datos de Entrada'!C22+1))^2-4*'Datos de Entrada'!C22*((4/3)*('Datos de Entrada'!C23^2)*('Datos de Entrada'!C21^2)-B32/'Datos de Entrada'!C21) | C33: - | D33: Resolución de la geometría prismoidal
A34: Ancho definitivo de lámina de agua | B34: =('Datos de Entrada'!C23*'Datos de Entrada'!C21*('Datos de Entrada'!C22+1)+SQRT(B33))/(2*'Datos de Entrada'!C22) | C34: m
A35: Largo definitivo de lámina de agua | B35: =B34*'Datos de Entrada'!C22 | C35: m
A36: Superficie definitiva por laguna | B36: =B34*B35 | C36: m²
A37: Superficie definitiva total | B37: =B36*'Datos de Entrada'!C20 | C37: m²
A38: Superficie definitiva total | B38: =B37/10000 | C38: ha
A39: Ancho definitivo de fondo | B39: =MAX(0,B34-2*'Datos de Entrada'!C23*'Datos de Entrada'!C21) | C39: m
A40: Largo definitivo de fondo | B40: =MAX(0,B35-2*'Datos de Entrada'!C23*'Datos de Entrada'!C21) | C40: m
A41: Área a media profundidad definitiva | B41: =(B34-'Datos de Entrada'!C23*'Datos de Entrada'!C21)*(B35-'Datos de Entrada'!C23*'Datos de Entrada'!C21) | C41: m²
A42: Volumen útil por laguna verificado | B42: ='Datos de Entrada'!C21/6*(B36+B39*B40+4*B41) | C42: m³
A43: Volumen útil total verificado | B43: =B42*'Datos de Entrada'!C20 | C43: m³
...

Sheet Resumen
A1: LAGUNA FACULTATIVA - RESUMEN DE DISEÑO
A3: Elemento | B3: Valor | C3: Unidad | D3: Estado / nota
A4: Tipo de laguna | B4: ='Datos de Entrada'!C11 | C4: -
A5: Zona ecológica | B5: ='Datos de Entrada'!C8 | C5: -
A6: Caudal medio diario | B6: =Calculos!B5 | C6: m³/d
A7: DBO5 afluente | B7: =Calculos!B9 | C7: mg/L
A8: Carga superficial máxima | B8: =Calculos!B14 | C8: kg DBO5/ha·d
A9: Carga superficial real final | B9: =Calculos!B45 | C9: kg DBO5/ha·d
A10: TRH mínimo | B10: =Calculos!B29 | C10: d
A11: TRH final | B11: =Calculos!B44 | C11: d
A12: Número de lagunas en paralelo | B12: ='Datos de Entrada'!C20 | C12: unid
A13: Superficie total de lámina de agua | B13: =Calculos!B37 | C13: m²
A14: Superficie total de lámina de agua | B14: =Calculos!B38 | C14: ha
A15: Ancho por laguna | B15: =Calculos!B34 | C15: m
A16: Largo por laguna | B16: =Calculos!B35 | C16: m
A17: Profundidad útil | B17: ='Datos de Entrada'!C21 | C17: m
A18: Volumen útil total | B18: =Calculos!B43 | C18: m³
A19: DBO5 total esperada en efluente | B19: =Calculos!B59 | C19: mg/L
A20: Remoción estimada DBO5 | B20: =Calculos!B60 | C20: fracción
A21: Coliformes esperados en efluente | B21: =Calculos!B68 | C21: NMP/100 mL
A22: Remoción logarítmica de coliformes | B22: =Calculos!B70 | C22: u. log
A23: Lodos al periodo de limpieza | B23: =Calculos!B74 | C23: m³
A24: Resultado hidráulico-geométrico | B24: =Calculos!B98 | C24: -
A25: Resultado de calidad de efluente | B25: =Calculos!B99 | C25: -
A27: Lógica de diseño: 1) se obtiene la carga superficial máxima por temperatura; 2) se calcula la superficie requerida por DBO5; 3) se calcula el volumen real con geometría prismoidal y taludes; 4) se verifica el TRH mínimo de la zona ecológica; 5) si el TRH gobierna, se redimensiona la geometría; 6) se modelan DBO5 y coliformes con flujo disperso; 7) se verifican criterios constructivos, ambientales y necesidad de postratamiento.
A29: Fuente principal: Guía técnica para la selección y diseño de líneas de tratamiento de aguas residuales - Módulo 2, Cap. 7.3 Lagunas de Estabilización (MMAyA/VAPSB; CEDEX). https://ceh.cedex.es/web/documentos/FCAS/2_Guia_PTAR_Bolivia.pdf

Sheet Esquemas
A1: LAGUNA FACULTATIVA - ESQUEMAS DE DISEÑO
A2: Esquemas generados con los datos del ejemplo inicial. Los cálculos del Excel se actualizan al cambiar entradas; las imágenes son ilustrativas y deben regenerarse si se requieren planos con las nuevas dimensiones.
A59: Fuente principal: Guía técnica para la selección y diseño de líneas de tratamiento de aguas residuales - Módulo 2, Cap. 7.3 Lagunas de Estabilización (MMAyA/VAPSB; CEDEX). https://ceh.cedex.es/web/documentos/FCAS/2_Guia_PTAR_Bolivia.pdf
